BEGIN:VCALENDAR
VERSION:2.0
PRODID:-//Netzwerk Klimaherbst - ECPv6.15.20//NONSGML v1.0//EN
CALSCALE:GREGORIAN
METHOD:PUBLISH
X-ORIGINAL-URL:https://netzwerk-klimaherbst.de
X-WR-CALDESC:Veranstaltungen für Netzwerk Klimaherbst
REFRESH-INTERVAL;VALUE=DURATION:PT1H
X-Robots-Tag:noindex
X-PUBLISHED-TTL:PT1H
BEGIN:VTIMEZONE
TZID:Europe/Berlin
BEGIN:DAYLIGHT
TZOFFSETFROM:+0100
TZOFFSETTO:+0200
TZNAME:CEST
DTSTART:20250330T010000
END:DAYLIGHT
BEGIN:STANDARD
TZOFFSETFROM:+0200
TZOFFSETTO:+0100
TZNAME:CET
DTSTART:20251026T010000
END:STANDARD
BEGIN:DAYLIGHT
TZOFFSETFROM:+0100
TZOFFSETTO:+0200
TZNAME:CEST
DTSTART:20260329T010000
END:DAYLIGHT
BEGIN:STANDARD
TZOFFSETFROM:+0200
TZOFFSETTO:+0100
TZNAME:CET
DTSTART:20261025T010000
END:STANDARD
BEGIN:DAYLIGHT
TZOFFSETFROM:+0100
TZOFFSETTO:+0200
TZNAME:CEST
DTSTART:20270328T010000
END:DAYLIGHT
BEGIN:STANDARD
TZOFFSETFROM:+0200
TZOFFSETTO:+0100
TZNAME:CET
DTSTART:20271031T010000
END:STANDARD
END:VTIMEZONE
BEGIN:VEVENT
DTSTART;TZID=Europe/Berlin:20260615T183000
DTEND;TZID=Europe/Berlin:20260615T200000
DTSTAMP:20260420T023737
CREATED:20260402T085158Z
LAST-MODIFIED:20260402T085404Z
UID:3640-1781548200-1781553600@netzwerk-klimaherbst.de
SUMMARY:Recht auf gerecht!
DESCRIPTION:Die Klimakrise belastet nicht nur den Planeten\, sondern auch unsere Psyche. Viele Klimaaktivist:innen engagieren sich mit voller Energie und stoßen dabei oft selbst an Grenzen. \nGleichzeitig spüren immer mehr Menschen in der gesamten Gesellschaft Ohnmacht: Sie wissen\, wie dringend Veränderung wäre\, fühlen sich aber zwischen Alltag\, Komfortzone\, Unsicherheit und politischer Langsamkeit gefangen. \nIm Gespräch geht es um die Entstehung von Klimaangst\, Überforderung und kognitiver Dissonanz\, warum besonders Engagierte betroffen sind und welche Strategien helfen können.
URL:https://netzwerk-klimaherbst.de/veranstaltung/recht-auf-gerecht/
LOCATION:Alte Utting\, Lagerhausstr. 15\, München\, 81371
CATEGORIES:Diskussion,Veranstaltung aus dem Klimaherbst-Netzwerk,Vernetzung,Weiterbildung
END:VEVENT
END:VCALENDAR