BEGIN:VCALENDAR
VERSION:2.0
PRODID:-//Netzwerk Klimaherbst - ECPv6.15.20//NONSGML v1.0//EN
CALSCALE:GREGORIAN
METHOD:PUBLISH
X-ORIGINAL-URL:https://netzwerk-klimaherbst.de
X-WR-CALDESC:Veranstaltungen für Netzwerk Klimaherbst
REFRESH-INTERVAL;VALUE=DURATION:PT1H
X-Robots-Tag:noindex
X-PUBLISHED-TTL:PT1H
BEGIN:VTIMEZONE
TZID:Europe/Berlin
BEGIN:DAYLIGHT
TZOFFSETFROM:+0100
TZOFFSETTO:+0200
TZNAME:CEST
DTSTART:20250330T010000
END:DAYLIGHT
BEGIN:STANDARD
TZOFFSETFROM:+0200
TZOFFSETTO:+0100
TZNAME:CET
DTSTART:20251026T010000
END:STANDARD
BEGIN:DAYLIGHT
TZOFFSETFROM:+0100
TZOFFSETTO:+0200
TZNAME:CEST
DTSTART:20260329T010000
END:DAYLIGHT
BEGIN:STANDARD
TZOFFSETFROM:+0200
TZOFFSETTO:+0100
TZNAME:CET
DTSTART:20261025T010000
END:STANDARD
BEGIN:DAYLIGHT
TZOFFSETFROM:+0100
TZOFFSETTO:+0200
TZNAME:CEST
DTSTART:20270328T010000
END:DAYLIGHT
BEGIN:STANDARD
TZOFFSETFROM:+0200
TZOFFSETTO:+0100
TZNAME:CET
DTSTART:20271031T010000
END:STANDARD
END:VTIMEZONE
BEGIN:VEVENT
DTSTART;TZID=Europe/Berlin:20260209T180000
DTEND;TZID=Europe/Berlin:20260209T200000
DTSTAMP:20260423T122424
CREATED:20251126T114355Z
LAST-MODIFIED:20251212T114911Z
UID:2821-1770660000-1770667200@netzwerk-klimaherbst.de
SUMMARY:2. Planungsrunde
DESCRIPTION:2026 findet der Münchner Klimaherbst das ganze Jahr über statt – mit dem Schwerpunktthema „Klimaanpassung\, Resilienz und das Leben“. Ihr möchtet euch mit einer eigenen Veranstaltung einbringen? Dann kommt gerne zu unserer 2. Planungsrunde. \nDas Treffen bietet Raum\, um sich kennenzulernen\, Kooperationen anzubahnen und erste Ideen miteinander zu teilen. Zudem erläutern wir die wichtigsten Rahmenbedingungen der Veranstaltungsreihe und zeigen auf\, wie wir euch unterstützen.
URL:https://netzwerk-klimaherbst.de/veranstaltung/2-planungsrunde/
LOCATION:münchner zukunftssalon\, Goethestr. 28\, München\, 80336\, Germany
CATEGORIES:Klimaherbst-Veranstaltung,Planungsrunde
END:VEVENT
BEGIN:VEVENT
DTSTART;TZID=Europe/Berlin:20260214T100000
DTEND;TZID=Europe/Berlin:20260214T170000
DTSTAMP:20260423T122424
CREATED:20260202T160526Z
LAST-MODIFIED:20260203T101517Z
UID:3273-1771063200-1771088400@netzwerk-klimaherbst.de
SUMMARY:Schulung zur konsum- und systemkritischen Stadtführung
DESCRIPTION:Unsere Welt hat viele Ungerechtigkeiten. WELTbewusst zeigt dir\, wie du im Alltag etwas dagegen tun kannst. Bei der Stadtführung entdeckst du Themen und Orte\, an denen schon Veränderungen stattfinden. \nDu siehst\, wie unser Wirtschaften und Verhalten Menschen und die Natur beeinflussen. Wir lernen im Workshop\, wie du anderen Menschen ein Stadtviertel zeigen und mit ihnen über nachhaltigeren Konsum sprechen kannst. \nDer Workshop findet in München statt\, aber das Gelernte kannst du auch in anderen Städten umsetzen als Stadtführer*in mit Zertifikat. Keine Vorkenntnisse nötig. Sei dabei! \nWenn du vor dem nächsten Workshop mehr erfahren möchtest\, schreibe an: weltbewusst-muenchen@bundjugend-bayern.de
URL:https://netzwerk-klimaherbst.de/veranstaltung/ausbildung-zur-zum-konsum-und-systemkritischen-stadtfuehrerin/
LOCATION:Landesstelle BUNDjugend Bayern\, Landwehrstr. 64 a RGB\, München\, 80336
CATEGORIES:Führung,Veranstaltung aus dem Klimaherbst-Netzwerk,Weiterbildung
END:VEVENT
BEGIN:VEVENT
DTSTART;TZID=Europe/Berlin:20260224T163000
DTEND;TZID=Europe/Berlin:20260224T181500
DTSTAMP:20260423T122424
CREATED:20260202T111944Z
LAST-MODIFIED:20260202T112322Z
UID:3259-1771950600-1771956900@netzwerk-klimaherbst.de
SUMMARY:Resilienzgruppe als Antwort auf globale Krisen und existenzielle Belastungen
DESCRIPTION:Wir sind zwei Aktivistinnen und Therapeutinnen und bieten eine neue fortlaufende Gruppentherapie bei z.B. Ängsten\, Depressionen an. Wir möchten Menschen ansprechen\, die selbst links und politisch aktiv sind\, waren oder gerne wären. Der Raum soll sicher genug sein\, dass auch von Diskriminierung betroffene Menschen bestmöglich teilnehmen können. Wir wollen uns ermächtigen und glauben\, dass wir den globalen Krisen und den persönlichen Herausforderungen durch Kapitalismus und Patriarchat solidarische Räume entgegensetzen können. Abrechnung über gesetzliche Krankenkasse.
URL:https://netzwerk-klimaherbst.de/veranstaltung/resilienzgruppe-als-antwort-auf-globale-krisen-und-existenzielle-belastungen/
LOCATION:FAU München\, Gabelsbergerstraße 44\, München\, 80333
CATEGORIES:Gruppentherapie,Veranstaltung aus dem Klimaherbst-Netzwerk,Weiterbildung
END:VEVENT
END:VCALENDAR