BEGIN:VCALENDAR
VERSION:2.0
PRODID:-//Netzwerk Klimaherbst - ECPv6.15.20//NONSGML v1.0//EN
CALSCALE:GREGORIAN
METHOD:PUBLISH
X-WR-CALNAME:Netzwerk Klimaherbst
X-ORIGINAL-URL:https://netzwerk-klimaherbst.de
X-WR-CALDESC:Veranstaltungen für Netzwerk Klimaherbst
REFRESH-INTERVAL;VALUE=DURATION:PT1H
X-Robots-Tag:noindex
X-PUBLISHED-TTL:PT1H
BEGIN:VTIMEZONE
TZID:Europe/Berlin
BEGIN:DAYLIGHT
TZOFFSETFROM:+0100
TZOFFSETTO:+0200
TZNAME:CEST
DTSTART:20240331T010000
END:DAYLIGHT
BEGIN:STANDARD
TZOFFSETFROM:+0200
TZOFFSETTO:+0100
TZNAME:CET
DTSTART:20241027T010000
END:STANDARD
BEGIN:DAYLIGHT
TZOFFSETFROM:+0100
TZOFFSETTO:+0200
TZNAME:CEST
DTSTART:20250330T010000
END:DAYLIGHT
BEGIN:STANDARD
TZOFFSETFROM:+0200
TZOFFSETTO:+0100
TZNAME:CET
DTSTART:20251026T010000
END:STANDARD
BEGIN:DAYLIGHT
TZOFFSETFROM:+0100
TZOFFSETTO:+0200
TZNAME:CEST
DTSTART:20260329T010000
END:DAYLIGHT
BEGIN:STANDARD
TZOFFSETFROM:+0200
TZOFFSETTO:+0100
TZNAME:CET
DTSTART:20261025T010000
END:STANDARD
BEGIN:DAYLIGHT
TZOFFSETFROM:+0100
TZOFFSETTO:+0200
TZNAME:CEST
DTSTART:20270328T010000
END:DAYLIGHT
BEGIN:STANDARD
TZOFFSETFROM:+0200
TZOFFSETTO:+0100
TZNAME:CET
DTSTART:20271031T010000
END:STANDARD
END:VTIMEZONE
BEGIN:VEVENT
DTSTART;TZID=Europe/Berlin:20260416T160000
DTEND;TZID=Europe/Berlin:20260416T173000
DTSTAMP:20260420T024213
CREATED:20260304T145704Z
LAST-MODIFIED:20260413T102502Z
UID:3470-1776355200-1776360600@netzwerk-klimaherbst.de
SUMMARY:Mitmachen bei der Klima.Dult 2026
DESCRIPTION:Am Sonntag\, den 26. Juli\, findet unser Stadtviertel-Aktionstag Klima.Dult statt\, diesmal in Pasing. Die Klima.Dult bringt Klimaschutz und Nachhaltigkeit direkt in den Alltag der Menschen im Viertel. An zahlreichen Ständen und Mitmachaktionen zeigen Initiativen und Organisationen\, wie ein klimafreundliches Leben im Stadtteil konkret aussehen kann – von praktischen Alltagstipps bis zu inspirierenden Projekten aus München. \nIhr seid als Münchner Organisation im Bereich Klimaschutz oder Nachhaltigkeit aktiv und möchtet euer Engagement auf der Klima.Dult sichtbar machen? \nBeim digitalen Info-Treffen stellen wir euch den Ablauf und die Planung der Veranstaltung vor\, zeigen verschiedene Beteiligungsmöglichkeiten (z. B. Stand\, Mitmachaktion oder Workshop) und beantworten eure Fragen. \nErste Infos dazu findet ihr auch auf dieser Seite: https://netzwerk-klimaherbst.de/angebot/sichtbarkeit/dult-mitmachen/.
URL:https://netzwerk-klimaherbst.de/veranstaltung/mitmachen-bei-der-klima-dult-2026/
LOCATION:digital
CATEGORIES:digitales Info-Treffen,Klimaherbst-Veranstaltung,Vortrag
END:VEVENT
BEGIN:VEVENT
DTSTART;TZID=Europe/Berlin:20260415T190000
DTEND;TZID=Europe/Berlin:20260415T210000
DTSTAMP:20260420T024213
CREATED:20260305T112035Z
LAST-MODIFIED:20260306T090140Z
UID:3480-1776279600-1776286800@netzwerk-klimaherbst.de
SUMMARY:Workshop "Stille im Sturm" (Abend 1/2)
DESCRIPTION:Wer sich gesellschaftlich oder politisch engagiert gibt viel. Zugleich fühlen sich Menschen heute oft ausgelaugt\, deprimiert und auch wütend angesichts vieler Missstände. Wie können wir mit Gefühlen wie Trauer\, Wut und Verzweiflung gut umgehen? \nIn herausfordernden Zeiten ist eine regelmäßige spirituelle Praxis hilfreich. Körperübungen\, Sitz- und Gehmeditation bringen uns ins „Hier & Jetzt“. In Gemeinschaft können wir unsere Gefühle halten. Kurze Texte und der Austausch mit Menschen\, aber auch Übungen zur Verbindung mit dem Erdboden helfen dabei\, die Illusion von Einsamkeit zu verringern und Verbindung/Interbeing mit uns selbst\, mit unserer natürlichen Mitwelt und anderen Lebewesen wieder zu spüren. \nZwei Abende mit Achtsamkeitspraxis in Stille\, mit Übungen aus dem Sozial Engagiertem Buddhismus (Thich Nhat Hanh) und Sharing\, d.h. wir üben achtsames Zuhören und – wer will – liebevolles Sprechen mit uns selbst. Übungen und Texte sind angelehnt an das Programm „Zen and the Art of Saving the Planet“ (plumvillage.org/courses/zen-and-the-art-of-saving-the-planet). \nDie zwei Abende\, angeleitet von Katharina Hirschbrunn und Hinnerk Brockmann\, können separat besucht werden – es hilft aber\, beide zu besuchen\, um eine Achtsamkeitspraxis zu etablieren. Bei Interesse kann die Gruppe auch länger fortgesetzt werden. \nBitte bequeme Kleidung tragen. Falls vorhanden\, bitte Meditationskissen/-bank mitbringen. \nZu Abend 2 am 29.04.: hier entlang.
URL:https://netzwerk-klimaherbst.de/veranstaltung/workshop-stille-im-sturm-abend-1-2/
LOCATION:münchner zukunftssalon\, Goethestr. 28\, München\, 80336\, Germany
CATEGORIES:Klimaherbst-Veranstaltung,Meditation,Vernetzung,Weiterbildung,Workshop
END:VEVENT
BEGIN:VEVENT
DTSTART;TZID=Europe/Berlin:20260325T183000
DTEND;TZID=Europe/Berlin:20260325T203000
DTSTAMP:20260420T024213
CREATED:20260211T132249Z
LAST-MODIFIED:20260224T085723Z
UID:3336-1774463400-1774470600@netzwerk-klimaherbst.de
SUMMARY:„MünchenBudget“-Workshop
DESCRIPTION:Beim Klimatreff Sendling-Westpark findest du einmal im Monat einen offenen Raum für Begegnung\, Austausch oder auch Planung konkreter nachhaltiger Projekte. Je nachdem wird auch ein inhaltlicher Impuls oder ein Workshop stattfinden. Im März-Treffen freuen wir uns über das Team vom „MünchenBudget“ 2026\, das bei uns einen Workshop durchführen wird. \nWorum geht’s? Wir wollen Ideen für ein klimaresilientes und nachhaltiges München entwickeln\, die man bei der Stadt einreichen kann – und die am Ende hoffentlich gewinnen. \nMehr Infos zum MünchenBudget findest du hier.
URL:https://netzwerk-klimaherbst.de/veranstaltung/muenchenbudget-workshop/
LOCATION:Feierwerk Nachbarschafstreff Sendling-Westpark\, Badgasteiner Straße 5\, München\, 81373
CATEGORIES:Veranstaltung aus dem Klimaherbst-Netzwerk,Workshop
END:VEVENT
BEGIN:VEVENT
DTSTART;TZID=Europe/Berlin:20260325T150000
DTEND;TZID=Europe/Berlin:20260325T190000
DTSTAMP:20260420T024213
CREATED:20260205T123404Z
LAST-MODIFIED:20260217T135350Z
UID:3299-1774450800-1774465200@netzwerk-klimaherbst.de
SUMMARY:BNE-Basics
DESCRIPTION:Im interaktiven Workshop BNE-Basics erfahren und erleben die Teilnehmenden das Bildungskonzept Bildung für nachhaltige Entwicklung sowie vielfältige und geeignete Methoden\, um Menschen für Nachhaltigkeit zu begeistern. \nBildung für nachhaltige Entwicklung lebt von Menschen\, Partizipation und Begeisterung. Deshalb bietet der Workshop Raum für Austausch und Vernetzung\, gibt mit positiven Praxisbeispielen neue Anregungen und Impulse und bestärkt die Teilnehmenden darin\, Bildung für nachhaltige Entwicklung in ihre Bildungsarbeit zu integrieren. \nDie Anzahl der Teilnehmenden ist begrenzt.
URL:https://netzwerk-klimaherbst.de/veranstaltung/bne-basics/
LOCATION:münchner zukunftssalon\, Goethestr. 28\, München\, 80336\, Germany
CATEGORIES:Veranstaltung aus dem Klimaherbst-Netzwerk,Weiterbildung
END:VEVENT
BEGIN:VEVENT
DTSTART;TZID=Europe/Berlin:20260319T160000
DTEND;TZID=Europe/Berlin:20260319T190000
DTSTAMP:20260420T024213
CREATED:20260216T141804Z
LAST-MODIFIED:20260216T142139Z
UID:3404-1773936000-1773946800@netzwerk-klimaherbst.de
SUMMARY:57. Netzwerk-Treffen BNE
DESCRIPTION:Insbesondere in gesellschaftlich und politisch herausfordernden Zeiten ist es wichtig\, Menschen in Bildungsprozessen zu befähigen\, eine gerechte und zukunftsfähige Gesellschaft aktiv mitzugestalten.Doch lassen sich demokratische Fähigkeiten erlernen und was braucht es\, um sie zu fördern? \nNeben Grundwerten wie Freiheit\, Gleichheit\, Gerechtigkeit und Solidarität rückt die Partizipation als Schlüssel für eine zukunftsorientierte und wertebasierte Lebensgestaltung in den Fokus von Bildung. Bildung kann Räume schaffen für stärkende Begegnungen\, gemeinsame Auseinandersetzungen\, partizipative Lernprozesse und solidarisches Denken und Handeln – alles unerlässlich für nachhaltige Entwicklung und für eine funktionierende Demokratie. \nBeim Netzwerk-Treffen werden wir verschiedene Zugänge und Projekte der Demokratiebildung mit Kindern und Jugendlichen kennenlernen und beschäftigen uns auch mit Fragen der eigenen Haltung in der pädagogischen Arbeit.
URL:https://netzwerk-klimaherbst.de/veranstaltung/57-netzwerk-treffen-bne/
LOCATION:münchner zukunftssalon\, Goethestr. 28\, München\, 80336\, Germany
CATEGORIES:Veranstaltung aus dem Klimaherbst-Netzwerk,Vernetzung,Weiterbildung
END:VEVENT
BEGIN:VEVENT
DTSTART;TZID=Europe/Berlin:20260313T163000
DTEND;TZID=Europe/Berlin:20260313T200000
DTSTAMP:20260420T024213
CREATED:20260202T151104Z
LAST-MODIFIED:20260202T151218Z
UID:3267-1773419400-1773432000@netzwerk-klimaherbst.de
SUMMARY:Geloste Räte neu denken - Wirkung ohne Parlament
DESCRIPTION:Wir stehen an einem historischen Punkt: Entweder bleiben Bürger:innenräte ein folgenloses Beiteiligungsritual – oder sie werden zu einer neuen Säule demokratischer Selbstorganisation. Statt um die nächste Beteiligungsmethode geht es in diesem Workshop um die Frage\, wie wir in einer härter werdenden politischen Realität mit gelosten Räten handlunsgfähig werden. \nMach mit bei unserem Online-Workshop! Es gibt vier Termine\, die auch jeweils einzeln besucht werden können. \nTermine: \n\n13.03.2026\, 16:30 – 20 Uhr\n14.03.2025\, 10 – 17 Uhr\n20.03.2026\, 16:30 – 20 Uhr\n21.03.2025\, 10 – 17 Uhr
URL:https://netzwerk-klimaherbst.de/veranstaltung/geloste-raete-neu-denken-wirkung-ohne-parlament/
LOCATION:digital
CATEGORIES:Veranstaltung aus dem Klimaherbst-Netzwerk,Vernetzung
END:VEVENT
BEGIN:VEVENT
DTSTART;TZID=Europe/Berlin:20260310T080000
DTEND;TZID=Europe/Berlin:20260310T170000
DTSTAMP:20260420T024213
CREATED:20260205T125135Z
LAST-MODIFIED:20260206T071020Z
UID:3304-1773129600-1773162000@netzwerk-klimaherbst.de
SUMMARY:Berufsbegleitende Weiterbildung Umweltbildung/BNE
DESCRIPTION:  \nAnmeldeschluss: 10. März! Bildung für nachhaltige Entwicklung als Beitrag zum Wandel in eine zukunftsfähige Gesellschaft ist eine Querschnittsaufgabe. Die Berufsbegleitende Weiterbildung Umweltbildung/Bildung für nachhaltige Entwicklung fördert das dafür nötige Kompetenzprofil: vernetztes Denken\, globale Perspektiven\, Methodenvielfalt\, Projektorientierung\, zielgruppenspezifische Ansprache. Dazu arbeiten wir mit renommierten Referent:innen aus pädagogischer Praxis und Wissenschaft und bieten handlungsorientierte Zugänge. \nDie Weiterbildung richtet sich an Mitarbeiter:innen von Bildungseinrichtungen\, freiberuflich Tätige\, Multiplikator:innen in Vereinen\, Verbänden und Initiativen\, Kommunen\, Museen\, Landratsämtern\, Betrieben. \nAlle wichtigen Infos zur Weiterbildung findet ihr auf dieser Seite.
URL:https://netzwerk-klimaherbst.de/veranstaltung/berufsbegleitende-weiterbildung-umweltbildung-bne/
LOCATION:verschiedene
CATEGORIES:Veranstaltung aus dem Klimaherbst-Netzwerk,Weiterbildung
END:VEVENT
BEGIN:VEVENT
DTSTART;TZID=Europe/Berlin:20260305T170000
DTEND;TZID=Europe/Berlin:20260305T190000
DTSTAMP:20260420T024213
CREATED:20251111T124422Z
LAST-MODIFIED:20260203T130201Z
UID:2710-1772730000-1772737200@netzwerk-klimaherbst.de
SUMMARY:Ernährungssysteme mit Zukunft
DESCRIPTION:Nachhaltiger\, gesünder\, genussvoller – so wünschen wir uns die Ernährung der Zukunft. Doch wie lässt sich dieser Anspruch in der Praxis umsetzen? Ob Klimawandel\, Versorgungssicherheit oder der Anstieg ernährungsbedingter Krankheiten: Die Herausforderungen der Zukunft sind so vielfältig wie die bestehenden Lösungsansätze. Aber wie erreichen wir mehr Wertschätzung für Lebensmittel und ausreichend Wertschöpfung im System? Welches „Essen“ hat Zukunft auf dem Teller? \nFreuen Sie sich auf einen informativen Vortrag von Prof. Dr. Hannelore Daniel im Rahmen von „Meet the City“ am Munich Urban Colab. Prof. Dr. Hannelore Daniel ist Ernährungsphysiologin und –forscherin und leitete jahrelang den Lehrstuhl für Ernährungsphysiologie an der TUM. \nMit der Veranstaltungsreihe „Meet the City“ bietet die Landeshauptstadt München im Munich Urban Colab regelmäßig Einblicke in neue städtische Projekte und sucht den Austausch mit allen\, die sich für eine lebenswerte Stadt der Zukunft interessieren. \nSilke Brugger vom Referat für Klima- und Umweltschutz der Stadt München gibt einen Einblick in den Bereich „Nachhaltige Ernährung“. Sie stellt das „Haus der Kost“ vor\, das dazu beitragen soll\, die Ernährungswende in München voranzubringen. \nNach den Impulsvorträgen findet ein Get-together statt\, bei dem neue Kontakte geknüpft und die Ideen der Veranstaltung gemeinsam diskutiert werden können.
URL:https://netzwerk-klimaherbst.de/veranstaltung/ernaehrungssysteme-mit-zukunft/
LOCATION:Munich Urban Colab\, Auditorium\, Freddie-Mercury-Straße 5\, München\, 80797
CATEGORIES:Veranstaltung aus dem Klimaherbst-Netzwerk,Vernetzung,Vortrag
END:VEVENT
BEGIN:VEVENT
DTSTART;TZID=Europe/Berlin:20260224T163000
DTEND;TZID=Europe/Berlin:20260224T181500
DTSTAMP:20260420T024213
CREATED:20260202T111944Z
LAST-MODIFIED:20260202T112322Z
UID:3259-1771950600-1771956900@netzwerk-klimaherbst.de
SUMMARY:Resilienzgruppe als Antwort auf globale Krisen und existenzielle Belastungen
DESCRIPTION:Wir sind zwei Aktivistinnen und Therapeutinnen und bieten eine neue fortlaufende Gruppentherapie bei z.B. Ängsten\, Depressionen an. Wir möchten Menschen ansprechen\, die selbst links und politisch aktiv sind\, waren oder gerne wären. Der Raum soll sicher genug sein\, dass auch von Diskriminierung betroffene Menschen bestmöglich teilnehmen können. Wir wollen uns ermächtigen und glauben\, dass wir den globalen Krisen und den persönlichen Herausforderungen durch Kapitalismus und Patriarchat solidarische Räume entgegensetzen können. Abrechnung über gesetzliche Krankenkasse.
URL:https://netzwerk-klimaherbst.de/veranstaltung/resilienzgruppe-als-antwort-auf-globale-krisen-und-existenzielle-belastungen/
LOCATION:FAU München\, Gabelsbergerstraße 44\, München\, 80333
CATEGORIES:Gruppentherapie,Veranstaltung aus dem Klimaherbst-Netzwerk,Weiterbildung
END:VEVENT
BEGIN:VEVENT
DTSTART;TZID=Europe/Berlin:20260214T100000
DTEND;TZID=Europe/Berlin:20260214T170000
DTSTAMP:20260420T024213
CREATED:20260202T160526Z
LAST-MODIFIED:20260203T101517Z
UID:3273-1771063200-1771088400@netzwerk-klimaherbst.de
SUMMARY:Schulung zur konsum- und systemkritischen Stadtführung
DESCRIPTION:Unsere Welt hat viele Ungerechtigkeiten. WELTbewusst zeigt dir\, wie du im Alltag etwas dagegen tun kannst. Bei der Stadtführung entdeckst du Themen und Orte\, an denen schon Veränderungen stattfinden. \nDu siehst\, wie unser Wirtschaften und Verhalten Menschen und die Natur beeinflussen. Wir lernen im Workshop\, wie du anderen Menschen ein Stadtviertel zeigen und mit ihnen über nachhaltigeren Konsum sprechen kannst. \nDer Workshop findet in München statt\, aber das Gelernte kannst du auch in anderen Städten umsetzen als Stadtführer*in mit Zertifikat. Keine Vorkenntnisse nötig. Sei dabei! \nWenn du vor dem nächsten Workshop mehr erfahren möchtest\, schreibe an: weltbewusst-muenchen@bundjugend-bayern.de
URL:https://netzwerk-klimaherbst.de/veranstaltung/ausbildung-zur-zum-konsum-und-systemkritischen-stadtfuehrerin/
LOCATION:Landesstelle BUNDjugend Bayern\, Landwehrstr. 64 a RGB\, München\, 80336
CATEGORIES:Führung,Veranstaltung aus dem Klimaherbst-Netzwerk,Weiterbildung
END:VEVENT
BEGIN:VEVENT
DTSTART;TZID=Europe/Berlin:20260209T180000
DTEND;TZID=Europe/Berlin:20260209T200000
DTSTAMP:20260420T024213
CREATED:20251126T114355Z
LAST-MODIFIED:20251212T114911Z
UID:2821-1770660000-1770667200@netzwerk-klimaherbst.de
SUMMARY:2. Planungsrunde
DESCRIPTION:2026 findet der Münchner Klimaherbst das ganze Jahr über statt – mit dem Schwerpunktthema „Klimaanpassung\, Resilienz und das Leben“. Ihr möchtet euch mit einer eigenen Veranstaltung einbringen? Dann kommt gerne zu unserer 2. Planungsrunde. \nDas Treffen bietet Raum\, um sich kennenzulernen\, Kooperationen anzubahnen und erste Ideen miteinander zu teilen. Zudem erläutern wir die wichtigsten Rahmenbedingungen der Veranstaltungsreihe und zeigen auf\, wie wir euch unterstützen.
URL:https://netzwerk-klimaherbst.de/veranstaltung/2-planungsrunde/
LOCATION:münchner zukunftssalon\, Goethestr. 28\, München\, 80336\, Germany
CATEGORIES:Klimaherbst-Veranstaltung,Planungsrunde
END:VEVENT
BEGIN:VEVENT
DTSTART;TZID=Europe/Berlin:20251214T180000
DTEND;TZID=Europe/Berlin:20251214T200000
DTSTAMP:20260420T024213
CREATED:20251209T100948Z
LAST-MODIFIED:20251209T151529Z
UID:2891-1765735200-1765742400@netzwerk-klimaherbst.de
SUMMARY:Menschlichkeit und Solidarität in der Welt
DESCRIPTION:Du wünscht dir Raum für Austausch\, Verständnis und neue Perspektiven? Komm ins Mini-Parlament der Menschen! In moderierten Runden teilen wir Sorgen\, Wünschen und Hoffnungen – und suchen gemeinsam nach neuen Wegen für ein menschliches und solidarisches Miteinander.
URL:https://netzwerk-klimaherbst.de/veranstaltung/menschlichkeit-und-solidaritaet-in-der-welt/
LOCATION:Kulturzentrum LUISE\, Rupperstraße 5\, München\, 80337
CATEGORIES:Veranstaltung aus dem Klimaherbst-Netzwerk,Weiterbildung
END:VEVENT
BEGIN:VEVENT
DTSTART;TZID=Europe/Berlin:20251124T160000
DTEND;TZID=Europe/Berlin:20251124T200000
DTSTAMP:20260420T024213
CREATED:20250813T122615Z
LAST-MODIFIED:20251119T165706Z
UID:1662-1764000000-1764014400@netzwerk-klimaherbst.de
SUMMARY:Blick zurück – und voraus: Der Münchner Klimaherbst im Wandel
DESCRIPTION:Im November laden wir euch herzlich ein\, gemeinsam auf den Münchner Klimaherbst 2025 zurückzuschauen – auf inspirierende Begegnungen\, spannende Diskussionen und gelungene Veranstaltungen. \nGleichzeitig werfen wir einen ersten Blick nach vorn: 2026 wird der Münchner Klimaherbst nicht mehr nur im Herbst\, sondern das ganze Jahr über stattfinden. Wir möchten euch die daraus entstehenden Neuerungen für euch als Veranstaltende vorstellen und schon jetzt gemeinsam an der Ausgestaltung und den Inhalten des kommenden Jahres arbeiten. Das Jahresthema 2026 lautet: „Klimaanpassung\, Resilienz und das gute Leben“ (AT). \nZum Ablauf der Veranstaltung:Im ersten Teil blicken wir gemeinsam auf den Münchner Klimaherbst 2025 zurück – dieser Abschnitt richtet sich besonders an alle\, die sich in diesem Jahr als Veranstaltende beteiligt haben. Anschließend laden wir zu einer Pause mit Getränken\, Fingerfood und Zeit für Austausch ein. Wer vor allem am zweiten Teil interessiert ist\, kann gerne zu diesem Zeitpunkt dazukommen. Im zweiten Teil steht der Münchner Klimaherbst 2026 im Mittelpunkt – mit Einblicken in die geplanten organisatorischen und inhaltlichen Neuerungen. \nKommt vorbei\, bringt eure Ideen ein und gestaltet den Klimaherbst 2026 von Anfang an mit!
URL:https://netzwerk-klimaherbst.de/veranstaltung/blick-zurueck-und-voraus-der-muenchner-klimaherbst-im-wandel/
LOCATION:EineWeltHaus\, Schwanthaler Straße 80\, München\, 80336\, Germany
CATEGORIES:Abschluss,Planungsrunde,Vernetzung
END:VEVENT
BEGIN:VEVENT
DTSTART;TZID=Europe/Berlin:20251124T080000
DTEND;TZID=Europe/Berlin:20251130T170000
DTSTAMP:20260420T024213
CREATED:20251117T103102Z
LAST-MODIFIED:20251117T131123Z
UID:2751-1763971200-1764522000@netzwerk-klimaherbst.de
SUMMARY:Public Climate School
DESCRIPTION:Vom 24. bis 30. November 2025 verwandelt sich die Hochschule Weihenstephan-Triesdorf in eine offene Klima-Hochschule: Im Rahmen der Public Climate School laden wir Sie herzlich ein\, an einer Woche voller spannender Veranstaltungen rund um Klima teilzunehmen. Von offenen Lehrveranstaltungen über Escape Game bis zu Pub Quiz gibt es Events am Campus Triesdorf\, Weihenstephan und online. \nOb Sie studieren\, lehren\, an der Hochschule arbeiten oder einfach Interesse am Thema haben – jede:r ist willkommen\, sich zu informieren\, mitzudiskutieren und neue Perspektiven zu gewinnen. \nWas erwartet euch? \n\nOffene Lehrveranstaltungen mit Klimabezug aus verschiedenen Fachbereichen\nWorkshops\, Vorträge\, Mitmachaktionen\nRaum für Austausch und Vernetzung zwischen Wissenschaft\, Praxis und Gesellschaft\n\nMit im Programm: \n\neine Filmvorführung mit dem Grünen Kino\n\nein Escape Game\nein Pub Quiz im Sammamera\nVorträge (z.B. Klimawandel im privaten Garten)\neine Führung zum Energielehrpfad\nein philosophisches Gespräch\neine Podiumsdiskussion mit u.A. Landrat Petz\, MdL Johannes Becher und Robert Winkler (Umweltministerium\, Abteilung Klimaschutz\, Politik und Nachhaltigkeit)\n\nDas vollständige Programm finden Sie hier. \nDie Public Climate School ist Teil einer bundesweiten Aktionswoche\, die Klimabildung für möglichst viele Menschen zugänglich machen möchte. Mehr zur Initiative unter: https://publicclimateschool.de.
URL:https://netzwerk-klimaherbst.de/veranstaltung/public-climate-school/
LOCATION:Hochschule Weihenstephan-Triesdorf\, Am Hofgarten 4\, Freising\, 85354
CATEGORIES:Veranstaltung aus dem Klimaherbst-Netzwerk,Weiterbildung
END:VEVENT
BEGIN:VEVENT
DTSTART;TZID=Europe/Berlin:20251027T190000
DTEND;TZID=Europe/Berlin:20251027T210000
DTSTAMP:20260420T024213
CREATED:20250820T102057Z
LAST-MODIFIED:20250820T102057Z
UID:1842-1761591600-1761598800@netzwerk-klimaherbst.de
SUMMARY:Demokratie\, Interessenvertretung und Macht – und wir erst als Klimarat!
DESCRIPTION:Wie können wir die Münchner Klima­politik konstruktiv\, menschlich und klima­freundlich gestalten? Seit 2021 berät der Münchner Klimarat – mit seinen Vertreter:innen aus der Zivilgesellschaft – den Stadtrat und die Verwaltung in allen Klima-Angelegenheiten\, von Klimaschutz bis Klimaanpassung. Der Klimarat spielt also im Vorfeld politischer Entscheidungen eine zentrale Rolle. Deshalb die heutige Einladung zu einer Berichterstattung und konstruktiven Ideenschmiede mit den gewählten Vertreter:innen der Zivilgesellschaft.
URL:https://netzwerk-klimaherbst.de/veranstaltung/demokratie-interessenvertretung-und-macht-und-wir-erst-als-klimarat/
LOCATION:münchner zukunftssalon\, Goethestr. 28\, München\, 80336\, Germany
CATEGORIES:Diskussion,Veranstaltung aus dem Klimaherbst-Netzwerk,Vernetzung,Vortrag
END:VEVENT
BEGIN:VEVENT
DTSTART;TZID=Europe/Berlin:20251023T180000
DTEND;TZID=Europe/Berlin:20251023T193000
DTSTAMP:20260420T024213
CREATED:20250820T095507Z
LAST-MODIFIED:20251013T181048Z
UID:1836-1761242400-1761247800@netzwerk-klimaherbst.de
SUMMARY:Wahrnehmen. Verstehen. Handeln.
DESCRIPTION:Wie lernen Kinder heute\, mit Verantwortung\, Empathie und Engagement Teil einer demokratischen Gesellschaft zu sein? In Zeiten globaler Krisen wie dem Klimawandel braucht es Lernräume\, die über Wissensvermittlung hinaus Wahrnehmung und Partizipation fördern – für gegenseitiges Verständnis und nachhaltiges Handeln. Unser Vortrag richtet sich an Bildungs­interessierte und zeigt anhand von Beispielen aus Kitas und Schulen\, wie Kinder durch direkte Erfahrung\, Beobachtung und Analyse Selbstvertrauen aufbauen und lernen die Welt aktiv und zum Schutz unserer gemeinsamen Lebensgrundlagen mitzugestalten.
URL:https://netzwerk-klimaherbst.de/veranstaltung/wahrnehmen-verstehen-handeln/
LOCATION:münchner zukunftssalon\, Goethestr. 28\, München\, 80336\, Germany
CATEGORIES:Diskussion,Veranstaltung aus dem Klimaherbst-Netzwerk,Vernetzung,Weiterbildung
END:VEVENT
BEGIN:VEVENT
DTSTART;TZID=Europe/Berlin:20251023T093000
DTEND;TZID=Europe/Berlin:20251023T160000
DTSTAMP:20260420T024213
CREATED:20250820T094741Z
LAST-MODIFIED:20251013T181000Z
UID:1823-1761211800-1761235200@netzwerk-klimaherbst.de
SUMMARY:Was brauchst DU wirklich?
DESCRIPTION:Eine schlechte Nachricht nach der anderen\, Krisen allerorts – wer fühlt da nicht Frust\, Angst\, Sorge um sich und die Welt? Kinder und Jugendliche sind nicht alle gleich\, aber gleichermaßen betroffen. Auf dem Fachtag wollen wir hinschauen: Wie geht’s Kindern und Jugendlichen angesichts vielfältiger Krisen? Welche Möglichkeiten gibt es für die Beteiligung junger Menschen? Und wir wollen praktische Methoden kennenlernen und erproben\, um mit Kindern und Jugendlichen zuversichtlich und gemeinschaftlich ins Handeln zu kommen. Angebote für Jugendliche und junge Erwachsene\, Schulklassen und Multiplikator:innen \nMit:\nNadja Hirsch vom Institut für Klimapsychologie\,\nFachstelle Demokratische Jugendbildung\,\n2Club vom KJR München-Stadt\,\nrehab republic e.V.\,\ncommit e.V.
URL:https://netzwerk-klimaherbst.de/veranstaltung/was-brauchst-du-wirklich/
LOCATION:Ökologisches Bildungszentrum (ÖBZ)\, Englschalkinger Str. 166\, München\, 81927
CATEGORIES:Fachtagung,Veranstaltung aus dem Klimaherbst-Netzwerk,Vernetzung,Weiterbildung,Workshop
END:VEVENT
BEGIN:VEVENT
DTSTART;TZID=Europe/Berlin:20251008T163000
DTEND;TZID=Europe/Berlin:20251008T173000
DTSTAMP:20260420T024213
CREATED:20250926T095113Z
LAST-MODIFIED:20250926T102236Z
UID:2054-1759941000-1759944600@netzwerk-klimaherbst.de
SUMMARY:Von der Theorie in die Praxis:  Bildung für nachhaltige Entwicklung in der Schule -
DESCRIPTION:in diesem Online-Seminar mit Prof. Dr. Sven Lindberg (Klinische Entwicklungs-psychologie\, Universität Paderborn) erfahren Sie\, wie Bildung für nachhaltige Entwicklung wirksam im Schulalltag verankert wird – mithilfe zentraler Aspekte der Psychologie wie Selbstwirksamkeit\, Selbstregulation und Lernen am Modell\, ergänzt um motivierende Feedbackschleifen und fächerverbindende Anknüpfungen. Sie erhalten klare Leitplanken und praxistaugliche Schritte\, um BNE als stabile Klassen- und Schulkultur aufzubauen.\nDie Veranstaltung richtet sich in erster Linie an Lehrkräfte und pädagogisches Fachpersonal. Alle Interessierten sind herzlich willkommen.\n„Was wir heute in unseren Kindern stärken\, wird morgen zu gesellschaftlicher Kraft.“ – Prof. Sven Lindberg
URL:https://netzwerk-klimaherbst.de/veranstaltung/von-der-theorie-in-die-praxis-bildung-fuer-nachhaltige-entwicklung-in-der-schule/
LOCATION:digital
CATEGORIES:Weiterbildung
END:VEVENT
BEGIN:VEVENT
DTSTART;TZID=Europe/Berlin:20250924T170000
DTEND;TZID=Europe/Berlin:20250924T183000
DTSTAMP:20260420T024213
CREATED:20250513T153540Z
LAST-MODIFIED:20250918T075212Z
UID:125-1758733200-1758738600@netzwerk-klimaherbst.de
SUMMARY:Führung im NS-Dokumentationszentrum
DESCRIPTION:Anlässlich unseres diesjährigen Themenschwerpunkts „Demokratie am Kipppunkt?“ laden wir euch zu einer Führung durch das Münchner NS-Dokuzentrum ein. Wir erhalten Einblicke in die Struktur und Arbeitsweise der Münchner Stadtverwaltung während der NS-Diktatur und gehen der Frage nach Loyalität\, Handlungsspielräumen und Verantwortung nach. Welche Rolle spielten unterschiedliche Ämter und Institutionen bei der Ausgrenzung und Verfolgung? Welche Handlungsspielräume gab es? Wie setzte sich die Stadtgesellschaft mit ihrer Vergangenheit auseinander? \nDie Teilnahme an der Führung ist kostenfrei. Weiter unten könnt ihr euch direkt anmelden.
URL:https://netzwerk-klimaherbst.de/veranstaltung/netzwerktreffen-klimaherbste-bayernweit/
LOCATION:NS-Dokumentationszentrum München\, Max-Mannheimer-Platz 1\, München\, 80333\, Germany
CATEGORIES:Weiterbildung
END:VEVENT
END:VCALENDAR