BEGIN:VCALENDAR
VERSION:2.0
PRODID:-//Netzwerk Klimaherbst - ECPv6.15.20//NONSGML v1.0//EN
CALSCALE:GREGORIAN
METHOD:PUBLISH
X-ORIGINAL-URL:https://netzwerk-klimaherbst.de
X-WR-CALDESC:Veranstaltungen für Netzwerk Klimaherbst
REFRESH-INTERVAL;VALUE=DURATION:PT1H
X-Robots-Tag:noindex
X-PUBLISHED-TTL:PT1H
BEGIN:VTIMEZONE
TZID:Europe/Berlin
BEGIN:DAYLIGHT
TZOFFSETFROM:+0100
TZOFFSETTO:+0200
TZNAME:CEST
DTSTART:20250330T010000
END:DAYLIGHT
BEGIN:STANDARD
TZOFFSETFROM:+0200
TZOFFSETTO:+0100
TZNAME:CET
DTSTART:20251026T010000
END:STANDARD
BEGIN:DAYLIGHT
TZOFFSETFROM:+0100
TZOFFSETTO:+0200
TZNAME:CEST
DTSTART:20260329T010000
END:DAYLIGHT
BEGIN:STANDARD
TZOFFSETFROM:+0200
TZOFFSETTO:+0100
TZNAME:CET
DTSTART:20261025T010000
END:STANDARD
BEGIN:DAYLIGHT
TZOFFSETFROM:+0100
TZOFFSETTO:+0200
TZNAME:CEST
DTSTART:20270328T010000
END:DAYLIGHT
BEGIN:STANDARD
TZOFFSETFROM:+0200
TZOFFSETTO:+0100
TZNAME:CET
DTSTART:20271031T010000
END:STANDARD
END:VTIMEZONE
BEGIN:VEVENT
DTSTART;TZID=Europe/Berlin:20260505T140000
DTEND;TZID=Europe/Berlin:20260505T160000
DTSTAMP:20260420T023743
CREATED:20260326T121004Z
LAST-MODIFIED:20260326T121004Z
UID:3592-1777989600-1777996800@netzwerk-klimaherbst.de
SUMMARY:Infoveranstaltung zur Beratungsstelle Whole Institution Approach (WIA)
DESCRIPTION:Bei der Infoveranstaltung stellen wir die WIA-Beratungsstelle und deren konkrete Angebote vor und informieren über nächste Termine. Die Beratungsstelle Whole Institution Approach unterstützt Bildungseinrichtungen für Kinder\, Jugendliche und junge Erwachsene in München\, die Bildung für nachhaltige Entwicklung in ihrem Leitbild verankern möchten. Hierzu bietet sie Workshops zur ganzheitlichen Umsetzung von BNE in der Einrichtung\, vermittelt geeignete Kooperationen und Ansprechpersonen für konkrete BNE-Maßnahmen und teilt BNE-Materialien und Unterstützungsangebote\, um Projekte und Aktionen mit Kindern und Jugendlichen umzusetzen. \nDie Veranstaltung richtet sich an die folgenden Zielgruppen: Pädagog:innen Kinder- und Jugendarbeit; Fachkräfte aus Kita\, Mittagsbetreuung\, Tagesheim\, Hort; Einrichtungsleitungen; BNE-Koordinator:innen\, Umweltbeauftragte\, Lehrkräfte\, BNE-Multiplikator:innen
URL:https://netzwerk-klimaherbst.de/veranstaltung/infoveranstaltung-zur-beratungsstelle-whole-institution-approach-wia/
LOCATION:münchner zukunftssalon\, Goethestr. 28\, München\, 80336\, Germany
CATEGORIES:Infotreffen,Veranstaltung aus dem Klimaherbst-Netzwerk,Weiterbildung
END:VEVENT
END:VCALENDAR