BEGIN:VCALENDAR
VERSION:2.0
PRODID:-//Netzwerk Klimaherbst - ECPv6.15.20//NONSGML v1.0//EN
CALSCALE:GREGORIAN
METHOD:PUBLISH
X-WR-CALNAME:Netzwerk Klimaherbst
X-ORIGINAL-URL:https://netzwerk-klimaherbst.de
X-WR-CALDESC:Veranstaltungen für Netzwerk Klimaherbst
REFRESH-INTERVAL;VALUE=DURATION:PT1H
X-Robots-Tag:noindex
X-PUBLISHED-TTL:PT1H
BEGIN:VTIMEZONE
TZID:Europe/Berlin
BEGIN:DAYLIGHT
TZOFFSETFROM:+0100
TZOFFSETTO:+0200
TZNAME:CEST
DTSTART:20250330T010000
END:DAYLIGHT
BEGIN:STANDARD
TZOFFSETFROM:+0200
TZOFFSETTO:+0100
TZNAME:CET
DTSTART:20251026T010000
END:STANDARD
BEGIN:DAYLIGHT
TZOFFSETFROM:+0100
TZOFFSETTO:+0200
TZNAME:CEST
DTSTART:20260329T010000
END:DAYLIGHT
BEGIN:STANDARD
TZOFFSETFROM:+0200
TZOFFSETTO:+0100
TZNAME:CET
DTSTART:20261025T010000
END:STANDARD
BEGIN:DAYLIGHT
TZOFFSETFROM:+0100
TZOFFSETTO:+0200
TZNAME:CEST
DTSTART:20270328T010000
END:DAYLIGHT
BEGIN:STANDARD
TZOFFSETFROM:+0200
TZOFFSETTO:+0100
TZNAME:CET
DTSTART:20271031T010000
END:STANDARD
END:VTIMEZONE
BEGIN:VEVENT
DTSTART;TZID=Europe/Berlin:20260429T090000
DTEND;TZID=Europe/Berlin:20260430T161500
DTSTAMP:20260420T005805
CREATED:20260202T103523Z
LAST-MODIFIED:20260202T104335Z
UID:3245-1777453200-1777565700@netzwerk-klimaherbst.de
SUMMARY:Tagung "Draußen macht Schule"
DESCRIPTION:Draußenlernen wirkt. Immer mehr Schulen entscheiden sich deshalb für den Weg hinaus aus dem Klassenzimmer. Lehrkräfte und unterstützende Bildungsakteur:innen entwickeln das Draußenlernen kontinuierlich weiter\, während zugleich das wissenschaftliche Interesse an seiner Erforschung stetig wächst. Damit sich die Wirkung von Draußenlernen noch stärker entfalten kann\, braucht es beides: Praxis und Wissenschaft. \nVor diesem Hintergrund legt die vierte Netzwerktagung Draußenlernen ihren Schwerpunkt auf den Dialog zwischen den beteiligten Perspektiven. Eingeladen sind unter anderem Vertreter:innen aus der Praxis\, der Wissenschaft und der Bildungspolitik. Gemeinsam stellen wir Fragen\, kommen ins Gespräch und in die Ruhe\, lernen voneinander\, probieren (uns) aus\, experimentieren und erleben. Im Mittelpunkt der Tagung steht der offene\, wertschätzende Austausch. \nZum Programm:\nDie Tagung bietet in unterschiedlichen Settings vielfältige Gesprächsanlässe\, die Akteur:innen des Draußenlernens aus Praxis\, Wissenschaft und Politik in einen intensiven Dialog bringen. Fachimpulse von renommierten Wissenschaftler:innen im Bereich des Unterrichtens außerhalb des Klassenzimmers sowie ein Podiumsgespräch mit Vertreter:innen aus Wissenschaft\, Praxis und Politik bilden den inhaltlichen Rahmen.\nEinen bereichernden Kontrast dazu schaffen zwei Workshoprunden\, die überwiegend im Naturraum stattfinden und eine Vielzahl praxisnaher Workshops umfassen. In Gruppenarbeiten werden unterschiedliche Perspektiven ausgetauscht und gebündelt\, um sich gegenseitig in der Weiterentwicklung des eigenen Draußenlernens zu stärken. Ein Markt der Möglichkeiten bietet zusätzliche Inspiration. Darüber hinaus gibt es viel Raum für Austausch\, Vernetzung und Ruhe. \nWeitere Informationen zur Tagung finden Sie auf unserer Homepage:\nhttp://www.draussenlernen.net/tagung. Dort finden Sie den Programmflyer und die Anmeldeinformationen.
URL:https://netzwerk-klimaherbst.de/veranstaltung/tagung-draussen-macht-schule/
LOCATION:Kloster Volkenroda\, Gutshof 1\, Volkenroda\, 99998
CATEGORIES:Diskussion,Fachtagung,Veranstaltung aus dem Klimaherbst-Netzwerk,Vernetzung,Weiterbildung,Workshop
END:VEVENT
BEGIN:VEVENT
DTSTART;TZID=Europe/Berlin:20260429T190000
DTEND;TZID=Europe/Berlin:20260429T210000
DTSTAMP:20260420T005805
CREATED:20260305T112436Z
LAST-MODIFIED:20260306T090249Z
UID:3488-1777489200-1777496400@netzwerk-klimaherbst.de
SUMMARY:Workshop "Stille im Sturm" (Abend 2/2)
DESCRIPTION:Wer sich gesellschaftlich oder politisch engagiert gibt viel. Zugleich fühlen sich Menschen heute oft ausgelaugt\, deprimiert und auch wütend angesichts vieler Missstände. Wie können wir mit Gefühlen wie Trauer\, Wut und Verzweiflung gut umgehen? \nIn herausfordernden Zeiten ist eine regelmäßige spirituelle Praxis hilfreich. Körperübungen\, Sitz- und Gehmeditation bringen uns ins „Hier & Jetzt“. In Gemeinschaft können wir unsere Gefühle halten. Kurze Texte und der Austausch mit Menschen\, aber auch Übungen zur Verbindung mit dem Erdboden helfen dabei\, die Illusion von Einsamkeit zu verringern und Verbindung/Interbeing mit uns selbst\, mit unserer natürlichen Mitwelt und anderen Lebewesen wieder zu spüren. \nZwei Abende mit Achtsamkeitspraxis in Stille\, mit Übungen aus dem Sozial Engagiertem Buddhismus (Thich Nhat Hanh) und Sharing\, d.h. wir üben achtsames Zuhören und – wer will – liebevolles Sprechen mit uns selbst. Übungen und Texte sind angelehnt an das Programm „Zen and the Art of Saving the Planet“ (plumvillage.org/courses/zen-and-the-art-of-saving-the-planet). \nDie zwei Abende\, angeleitet von Katharina Hirschbrunn und Hinnerk Brockmann\, können separat besucht werden – es hilft aber\, beide zu besuchen\, um eine Achtsamkeitspraxis zu etablieren. Bei Interesse kann die Gruppe auch länger fortgesetzt werden. \nBitte bequeme Kleidung tragen. Falls vorhanden\, bitte Meditationskissen/-bank mitbringen. \nZu Abend 1 am 15.04.: hier entlang.
URL:https://netzwerk-klimaherbst.de/veranstaltung/workshop-stille-im-sturm-abend-2-2/
LOCATION:münchner zukunftssalon\, Goethestr. 28\, München\, 80336\, Germany
CATEGORIES:Klimaherbst-Veranstaltung,Meditation,Vernetzung,Weiterbildung,Workshop
END:VEVENT
END:VCALENDAR