BEGIN:VCALENDAR
VERSION:2.0
PRODID:-//Netzwerk Klimaherbst - ECPv6.15.20//NONSGML v1.0//EN
CALSCALE:GREGORIAN
METHOD:PUBLISH
X-WR-CALNAME:Netzwerk Klimaherbst
X-ORIGINAL-URL:https://netzwerk-klimaherbst.de
X-WR-CALDESC:Veranstaltungen für Netzwerk Klimaherbst
REFRESH-INTERVAL;VALUE=DURATION:PT1H
X-Robots-Tag:noindex
X-PUBLISHED-TTL:PT1H
BEGIN:VTIMEZONE
TZID:Europe/Berlin
BEGIN:DAYLIGHT
TZOFFSETFROM:+0100
TZOFFSETTO:+0200
TZNAME:CEST
DTSTART:20250330T010000
END:DAYLIGHT
BEGIN:STANDARD
TZOFFSETFROM:+0200
TZOFFSETTO:+0100
TZNAME:CET
DTSTART:20251026T010000
END:STANDARD
BEGIN:DAYLIGHT
TZOFFSETFROM:+0100
TZOFFSETTO:+0200
TZNAME:CEST
DTSTART:20260329T010000
END:DAYLIGHT
BEGIN:STANDARD
TZOFFSETFROM:+0200
TZOFFSETTO:+0100
TZNAME:CET
DTSTART:20261025T010000
END:STANDARD
BEGIN:DAYLIGHT
TZOFFSETFROM:+0100
TZOFFSETTO:+0200
TZNAME:CEST
DTSTART:20270328T010000
END:DAYLIGHT
BEGIN:STANDARD
TZOFFSETFROM:+0200
TZOFFSETTO:+0100
TZNAME:CET
DTSTART:20271031T010000
END:STANDARD
END:VTIMEZONE
BEGIN:VEVENT
DTSTART;TZID=Europe/Berlin:20260424T170000
DTEND;TZID=Europe/Berlin:20260426T150000
DTSTAMP:20260420T005228
CREATED:20260330T093442Z
LAST-MODIFIED:20260330T093731Z
UID:3608-1777050000-1777215600@netzwerk-klimaherbst.de
SUMMARY:Frieden braucht Gerechtigkeit - Das PBI-Rollenspiel zum Fall Raul Hernandez (Umweltaktivist aus Mexiko)
DESCRIPTION:Das Multiplikator:innen-Seminar vom 24.-26.04. verbindet Globales Lernen mit Themen wie der Kriminalisierung von Umweltaktivist:innen im Globalen Süden und internationaler Solidarität im Kontext von Klimakämpfen weltweit. \nDu erlebst ein interaktives Rollenspiel zu Menschenrechten auf ein faires Verfahren und reflektierst die Rolle von Umweltverteidiger:innen im Kontext von Landkonflikten und Klimakrise. \nDie Weiterbildung vermittelt Methoden\, um komplexe globale Zusammenhänge erfahrbar zu machen und Handlungsmöglichkeiten für mehr Gerechtigkeit und Solidarität zu entwickeln und weiterzugeben.
URL:https://netzwerk-klimaherbst.de/veranstaltung/frieden-braucht-gerechtigkeit-das-pbi-rollenspiel-zum-fall-raul-hernandez-umweltaktivist-aus-mexiko/
LOCATION:münchner zukunftssalon\, Goethestr. 28\, München\, 80336\, Germany
CATEGORIES:Rollenspiel,Veranstaltung aus dem Klimaherbst-Netzwerk,Weiterbildung,Workshop
END:VEVENT
END:VCALENDAR