BEGIN:VCALENDAR
VERSION:2.0
PRODID:-//Netzwerk Klimaherbst - ECPv6.15.20//NONSGML v1.0//EN
CALSCALE:GREGORIAN
METHOD:PUBLISH
X-WR-CALNAME:Netzwerk Klimaherbst
X-ORIGINAL-URL:https://netzwerk-klimaherbst.de
X-WR-CALDESC:Veranstaltungen für Netzwerk Klimaherbst
REFRESH-INTERVAL;VALUE=DURATION:PT1H
X-Robots-Tag:noindex
X-PUBLISHED-TTL:PT1H
BEGIN:VTIMEZONE
TZID:Europe/Berlin
BEGIN:DAYLIGHT
TZOFFSETFROM:+0100
TZOFFSETTO:+0200
TZNAME:CEST
DTSTART:20250330T010000
END:DAYLIGHT
BEGIN:STANDARD
TZOFFSETFROM:+0200
TZOFFSETTO:+0100
TZNAME:CET
DTSTART:20251026T010000
END:STANDARD
BEGIN:DAYLIGHT
TZOFFSETFROM:+0100
TZOFFSETTO:+0200
TZNAME:CEST
DTSTART:20260329T010000
END:DAYLIGHT
BEGIN:STANDARD
TZOFFSETFROM:+0200
TZOFFSETTO:+0100
TZNAME:CET
DTSTART:20261025T010000
END:STANDARD
BEGIN:DAYLIGHT
TZOFFSETFROM:+0100
TZOFFSETTO:+0200
TZNAME:CEST
DTSTART:20270328T010000
END:DAYLIGHT
BEGIN:STANDARD
TZOFFSETFROM:+0200
TZOFFSETTO:+0100
TZNAME:CET
DTSTART:20271031T010000
END:STANDARD
END:VTIMEZONE
BEGIN:VEVENT
DTSTART;TZID=Europe/Berlin:20260319T160000
DTEND;TZID=Europe/Berlin:20260319T190000
DTSTAMP:20260420T024115
CREATED:20260216T141804Z
LAST-MODIFIED:20260216T142139Z
UID:3404-1773936000-1773946800@netzwerk-klimaherbst.de
SUMMARY:57. Netzwerk-Treffen BNE
DESCRIPTION:Insbesondere in gesellschaftlich und politisch herausfordernden Zeiten ist es wichtig\, Menschen in Bildungsprozessen zu befähigen\, eine gerechte und zukunftsfähige Gesellschaft aktiv mitzugestalten.Doch lassen sich demokratische Fähigkeiten erlernen und was braucht es\, um sie zu fördern? \nNeben Grundwerten wie Freiheit\, Gleichheit\, Gerechtigkeit und Solidarität rückt die Partizipation als Schlüssel für eine zukunftsorientierte und wertebasierte Lebensgestaltung in den Fokus von Bildung. Bildung kann Räume schaffen für stärkende Begegnungen\, gemeinsame Auseinandersetzungen\, partizipative Lernprozesse und solidarisches Denken und Handeln – alles unerlässlich für nachhaltige Entwicklung und für eine funktionierende Demokratie. \nBeim Netzwerk-Treffen werden wir verschiedene Zugänge und Projekte der Demokratiebildung mit Kindern und Jugendlichen kennenlernen und beschäftigen uns auch mit Fragen der eigenen Haltung in der pädagogischen Arbeit.
URL:https://netzwerk-klimaherbst.de/veranstaltung/57-netzwerk-treffen-bne/
LOCATION:münchner zukunftssalon\, Goethestr. 28\, München\, 80336\, Germany
CATEGORIES:Veranstaltung aus dem Klimaherbst-Netzwerk,Vernetzung,Weiterbildung
END:VEVENT
END:VCALENDAR