BEGIN:VCALENDAR
VERSION:2.0
PRODID:-//Netzwerk Klimaherbst - ECPv6.15.20//NONSGML v1.0//EN
CALSCALE:GREGORIAN
METHOD:PUBLISH
X-ORIGINAL-URL:https://netzwerk-klimaherbst.de
X-WR-CALDESC:Veranstaltungen für Netzwerk Klimaherbst
REFRESH-INTERVAL;VALUE=DURATION:PT1H
X-Robots-Tag:noindex
X-PUBLISHED-TTL:PT1H
BEGIN:VTIMEZONE
TZID:Europe/Berlin
BEGIN:DAYLIGHT
TZOFFSETFROM:+0100
TZOFFSETTO:+0200
TZNAME:CEST
DTSTART:20240331T010000
END:DAYLIGHT
BEGIN:STANDARD
TZOFFSETFROM:+0200
TZOFFSETTO:+0100
TZNAME:CET
DTSTART:20241027T010000
END:STANDARD
BEGIN:DAYLIGHT
TZOFFSETFROM:+0100
TZOFFSETTO:+0200
TZNAME:CEST
DTSTART:20250330T010000
END:DAYLIGHT
BEGIN:STANDARD
TZOFFSETFROM:+0200
TZOFFSETTO:+0100
TZNAME:CET
DTSTART:20251026T010000
END:STANDARD
BEGIN:DAYLIGHT
TZOFFSETFROM:+0100
TZOFFSETTO:+0200
TZNAME:CEST
DTSTART:20260329T010000
END:DAYLIGHT
BEGIN:STANDARD
TZOFFSETFROM:+0200
TZOFFSETTO:+0100
TZNAME:CET
DTSTART:20261025T010000
END:STANDARD
END:VTIMEZONE
BEGIN:VEVENT
DTSTART;TZID=Europe/Berlin:20251124T080000
DTEND;TZID=Europe/Berlin:20251130T170000
DTSTAMP:20260423T191636
CREATED:20251117T103102Z
LAST-MODIFIED:20251117T131123Z
UID:2751-1763971200-1764522000@netzwerk-klimaherbst.de
SUMMARY:Public Climate School
DESCRIPTION:Vom 24. bis 30. November 2025 verwandelt sich die Hochschule Weihenstephan-Triesdorf in eine offene Klima-Hochschule: Im Rahmen der Public Climate School laden wir Sie herzlich ein\, an einer Woche voller spannender Veranstaltungen rund um Klima teilzunehmen. Von offenen Lehrveranstaltungen über Escape Game bis zu Pub Quiz gibt es Events am Campus Triesdorf\, Weihenstephan und online. \nOb Sie studieren\, lehren\, an der Hochschule arbeiten oder einfach Interesse am Thema haben – jede:r ist willkommen\, sich zu informieren\, mitzudiskutieren und neue Perspektiven zu gewinnen. \nWas erwartet euch? \n\nOffene Lehrveranstaltungen mit Klimabezug aus verschiedenen Fachbereichen\nWorkshops\, Vorträge\, Mitmachaktionen\nRaum für Austausch und Vernetzung zwischen Wissenschaft\, Praxis und Gesellschaft\n\nMit im Programm: \n\neine Filmvorführung mit dem Grünen Kino\n\nein Escape Game\nein Pub Quiz im Sammamera\nVorträge (z.B. Klimawandel im privaten Garten)\neine Führung zum Energielehrpfad\nein philosophisches Gespräch\neine Podiumsdiskussion mit u.A. Landrat Petz\, MdL Johannes Becher und Robert Winkler (Umweltministerium\, Abteilung Klimaschutz\, Politik und Nachhaltigkeit)\n\nDas vollständige Programm finden Sie hier. \nDie Public Climate School ist Teil einer bundesweiten Aktionswoche\, die Klimabildung für möglichst viele Menschen zugänglich machen möchte. Mehr zur Initiative unter: https://publicclimateschool.de.
URL:https://netzwerk-klimaherbst.de/veranstaltung/public-climate-school/
LOCATION:Hochschule Weihenstephan-Triesdorf\, Am Hofgarten 4\, Freising\, 85354
CATEGORIES:Veranstaltung aus dem Klimaherbst-Netzwerk,Weiterbildung
END:VEVENT
END:VCALENDAR