BEGIN:VCALENDAR
VERSION:2.0
PRODID:-//Netzwerk Klimaherbst - ECPv6.15.20//NONSGML v1.0//EN
CALSCALE:GREGORIAN
METHOD:PUBLISH
X-ORIGINAL-URL:https://netzwerk-klimaherbst.de
X-WR-CALDESC:Veranstaltungen für Netzwerk Klimaherbst
REFRESH-INTERVAL;VALUE=DURATION:PT1H
X-Robots-Tag:noindex
X-PUBLISHED-TTL:PT1H
BEGIN:VTIMEZONE
TZID:Europe/Berlin
BEGIN:DAYLIGHT
TZOFFSETFROM:+0100
TZOFFSETTO:+0200
TZNAME:CEST
DTSTART:20240331T010000
END:DAYLIGHT
BEGIN:STANDARD
TZOFFSETFROM:+0200
TZOFFSETTO:+0100
TZNAME:CET
DTSTART:20241027T010000
END:STANDARD
BEGIN:DAYLIGHT
TZOFFSETFROM:+0100
TZOFFSETTO:+0200
TZNAME:CEST
DTSTART:20250330T010000
END:DAYLIGHT
BEGIN:STANDARD
TZOFFSETFROM:+0200
TZOFFSETTO:+0100
TZNAME:CET
DTSTART:20251026T010000
END:STANDARD
BEGIN:DAYLIGHT
TZOFFSETFROM:+0100
TZOFFSETTO:+0200
TZNAME:CEST
DTSTART:20260329T010000
END:DAYLIGHT
BEGIN:STANDARD
TZOFFSETFROM:+0200
TZOFFSETTO:+0100
TZNAME:CET
DTSTART:20261025T010000
END:STANDARD
END:VTIMEZONE
BEGIN:VEVENT
DTSTART;TZID=Europe/Berlin:20251008T163000
DTEND;TZID=Europe/Berlin:20251008T173000
DTSTAMP:20260423T203759
CREATED:20250926T095113Z
LAST-MODIFIED:20250926T102236Z
UID:2054-1759941000-1759944600@netzwerk-klimaherbst.de
SUMMARY:Von der Theorie in die Praxis:  Bildung für nachhaltige Entwicklung in der Schule -
DESCRIPTION:in diesem Online-Seminar mit Prof. Dr. Sven Lindberg (Klinische Entwicklungs-psychologie\, Universität Paderborn) erfahren Sie\, wie Bildung für nachhaltige Entwicklung wirksam im Schulalltag verankert wird – mithilfe zentraler Aspekte der Psychologie wie Selbstwirksamkeit\, Selbstregulation und Lernen am Modell\, ergänzt um motivierende Feedbackschleifen und fächerverbindende Anknüpfungen. Sie erhalten klare Leitplanken und praxistaugliche Schritte\, um BNE als stabile Klassen- und Schulkultur aufzubauen.\nDie Veranstaltung richtet sich in erster Linie an Lehrkräfte und pädagogisches Fachpersonal. Alle Interessierten sind herzlich willkommen.\n„Was wir heute in unseren Kindern stärken\, wird morgen zu gesellschaftlicher Kraft.“ – Prof. Sven Lindberg
URL:https://netzwerk-klimaherbst.de/veranstaltung/von-der-theorie-in-die-praxis-bildung-fuer-nachhaltige-entwicklung-in-der-schule/
LOCATION:digital
CATEGORIES:Weiterbildung
END:VEVENT
END:VCALENDAR